BEGIN:VCALENDAR
VERSION:2.0
PRODID:-//Bandy Books - ECPv6.15.20//NONSGML v1.0//EN
CALSCALE:GREGORIAN
METHOD:PUBLISH
X-ORIGINAL-URL:https://bandybooks.com
X-WR-CALDESC:Events for Bandy Books
REFRESH-INTERVAL;VALUE=DURATION:PT1H
X-Robots-Tag:noindex
X-PUBLISHED-TTL:PT1H
BEGIN:VTIMEZONE
TZID:UTC
BEGIN:STANDARD
TZOFFSETFROM:+0000
TZOFFSETTO:+0000
TZNAME:UTC
DTSTART:20230101T000000
END:STANDARD
END:VTIMEZONE
BEGIN:VEVENT
DTSTART;TZID=UTC:20250628T080000
DTEND;TZID=UTC:20250628T110000
DTSTAMP:20260424T165233
CREATED:20241025T040130Z
LAST-MODIFIED:20241028T231127Z
UID:780-1751097600-1751108400@bandybooks.com
SUMMARY:New Friends with Books
DESCRIPTION:Unlock the Secrets of Great Storytelling: Join the Upcoming Writing Seminar in LondonAre you passionate about writing\, eager to refine your craft\, or seeking inspiration for your next big project? This is your chance to immerse yourself in the art of storytelling and learn from some of the most talented minds in the writing world! On [Insert Date]\, London will host a one-of-a-kind writing seminar\, bringing together authors\, aspiring writers\, and industry experts to explore the secrets of creating compelling narratives that captivate readers. What to Expect: A Day of Creativity\, Learning\, and InspirationWhether you’re a seasoned writer polishing your novel or a beginner just starting to explore your voice\, this seminar is designed to elevate your writing and spark your imagination. Set in the heart of London\, this event promises to offer invaluable insights\, practical strategies\, and plenty of inspiration. Here’s what you can look forward to: Expert-Led Workshops: Learn from bestselling authors\, editors\, and literary agents who will guide you through key aspects of the writing process—from character development and world-building to mastering plot twists and creating emotional depth. Whether you’re writing fiction\, non-fiction\, or screenplays\, there’s something for every storyteller.Interactive Panels and Q&A Sessions: Get your burning questions answered in real-time by industry professionals. Discuss the current trends in publishing\, how to navigate writer’s block\, and the best ways to make your work stand out in today’s competitive literary landscape.In-Depth Discussions on Genre Writing: Dive deep into specific genres\, including psychological thrillers\, fantasy\, historical fiction\, and more. Learn how to craft stories that not only entertain but resonate on a deeper level with readers.Live Critique Sessions: Bring a sample of your work for live feedback from industry experts. This unique opportunity allows you to receive constructive advice that can help you improve your writing and take it to the next level.Networking Opportunities: Connect with fellow writers\, publishers\, and literary professionals during dedicated networking breaks. Forge relationships that could lead to future collaborations or simply find camaraderie with others who share your passion for storytelling.Who Should Attend?This event is perfect for: Aspiring Writers: If you’re just starting your writing journey\, this seminar will provide you with the essential tools\, techniques\, and encouragement to pursue your creative dreams.Experienced Authors: For those who have already published works\, this seminar offers advanced strategies to refine your craft\, explore new genres\, and enhance your writing career.Writing Enthusiasts: Even if you’re not yet putting pen to paper but love the world of stories\, this seminar will deepen your understanding of the intricate process behind creating unforgettable books and characters. 								\n				\n				\n				\n									Special Guest Speakers: Insights from Industry LeadersWe’re thrilled to announce a lineup of renowned authors\, literary agents\, and editors who will be sharing their expertise at the event. From bestselling thriller writers to award-winning poets\, these professionals will offer diverse perspectives and actionable tips to help you grow as a writer. [Insert Keynote Speaker Name]\, the acclaimed author of [Insert Book Title]\, will deliver the keynote address\, offering personal insights into their writing journey\, overcoming challenges\, and achieving success. Why This Seminar is a Must-Attend EventExclusive Content: Gain access to writing techniques and industry knowledge that you won’t find online. This seminar is packed with expert advice that can help you break through creative barriers and bring your writing to life.Hands-On Learning: This isn’t just another lecture—our workshops and critique sessions offer a hands-on approach\, where you can immediately apply what you’ve learned and receive personalized feedback.Inspiration and Motivation: Writing can be a solitary endeavor\, but this seminar will remind you that you’re not alone. You’ll leave with a renewed sense of purpose\, a wealth of new ideas\, and the motivation to keep pushing forward in your writing journey. 								\n				\n				\n				\n					Widget only works on single event page.
URL:https://bandybooks.com/event/new-friends-with-books/
CATEGORIES:Book Introduction,Seminar
ATTACH;FMTTYPE=image/jpeg:https://bandybooks.com/wp-content/uploads/2018/11/post-22.jpg
ORGANIZER;CN="Andy Abasili":MAILTO:reachbandy@bandybooks.com
END:VEVENT
BEGIN:VEVENT
DTSTART;TZID=UTC:20250419T093000
DTEND;TZID=UTC:20250419T153000
DTSTAMP:20260424T165233
CREATED:20241025T040559Z
LAST-MODIFIED:20241028T222244Z
UID:784-1745055000-1745076600@bandybooks.com
SUMMARY:Enfield Workshop
DESCRIPTION:Unlock the Secrets of Great Storytelling: Join the Upcoming Writing Seminar in LondonAre you passionate about writing\, eager to refine your craft\, or seeking inspiration for your next big project? This is your chance to immerse yourself in the art of storytelling and learn from some of the most talented minds in the writing world! On [Insert Date]\, London will host a one-of-a-kind writing seminar\, bringing together authors\, aspiring writers\, and industry experts to explore the secrets of creating compelling narratives that captivate readers. What to Expect: A Day of Creativity\, Learning\, and InspirationWhether you’re a seasoned writer polishing your novel or a beginner just starting to explore your voice\, this seminar is designed to elevate your writing and spark your imagination. Set in the heart of London\, this event promises to offer invaluable insights\, practical strategies\, and plenty of inspiration. Here’s what you can look forward to: Expert-Led Workshops: Learn from bestselling authors\, editors\, and literary agents who will guide you through key aspects of the writing process—from character development and world-building to mastering plot twists and creating emotional depth. Whether you’re writing fiction\, non-fiction\, or screenplays\, there’s something for every storyteller.Interactive Panels and Q&A Sessions: Get your burning questions answered in real-time by industry professionals. Discuss the current trends in publishing\, how to navigate writer’s block\, and the best ways to make your work stand out in today’s competitive literary landscape.In-Depth Discussions on Genre Writing: Dive deep into specific genres\, including psychological thrillers\, fantasy\, historical fiction\, and more. Learn how to craft stories that not only entertain but resonate on a deeper level with readers.Live Critique Sessions: Bring a sample of your work for live feedback from industry experts. This unique opportunity allows you to receive constructive advice that can help you improve your writing and take it to the next level.Networking Opportunities: Connect with fellow writers\, publishers\, and literary professionals during dedicated networking breaks. Forge relationships that could lead to future collaborations or simply find camaraderie with others who share your passion for storytelling.Who Should Attend?This event is perfect for: Aspiring Writers: If you’re just starting your writing journey\, this seminar will provide you with the essential tools\, techniques\, and encouragement to pursue your creative dreams.Experienced Authors: For those who have already published works\, this seminar offers advanced strategies to refine your craft\, explore new genres\, and enhance your writing career.Writing Enthusiasts: Even if you’re not yet putting pen to paper but love the world of stories\, this seminar will deepen your understanding of the intricate process behind creating unforgettable books and characters. 								\n				\n				\n				\n									Special Guest Speakers: Insights from Industry LeadersWe’re thrilled to announce a lineup of renowned authors\, literary agents\, and editors who will be sharing their expertise at the event. From bestselling thriller writers to award-winning poets\, these professionals will offer diverse perspectives and actionable tips to help you grow as a writer. [Insert Keynote Speaker Name]\, the acclaimed author of [Insert Book Title]\, will deliver the keynote address\, offering personal insights into their writing journey\, overcoming challenges\, and achieving success. Why This Seminar is a Must-Attend EventExclusive Content: Gain access to writing techniques and industry knowledge that you won’t find online. This seminar is packed with expert advice that can help you break through creative barriers and bring your writing to life.Hands-On Learning: This isn’t just another lecture—our workshops and critique sessions offer a hands-on approach\, where you can immediately apply what you’ve learned and receive personalized feedback.Inspiration and Motivation: Writing can be a solitary endeavor\, but this seminar will remind you that you’re not alone. You’ll leave with a renewed sense of purpose\, a wealth of new ideas\, and the motivation to keep pushing forward in your writing journey. 								\n				\n				\n				\n					Widget only works on single event page.
URL:https://bandybooks.com/event/enfield-workshop/
CATEGORIES:Workshop
ATTACH;FMTTYPE=image/jpeg:https://bandybooks.com/wp-content/uploads/2018/11/post-19.jpg
ORGANIZER;CN="Andy Abasili":MAILTO:reachbandy@bandybooks.com
END:VEVENT
BEGIN:VEVENT
DTSTART;TZID=UTC:20250315T100000
DTEND;TZID=UTC:20250315T223000
DTSTAMP:20260424T165233
CREATED:20241025T040437Z
LAST-MODIFIED:20241028T224916Z
UID:782-1742032800-1742077800@bandybooks.com
SUMMARY:All of Andy's books
DESCRIPTION:Unlock the Secrets of Great Storytelling: Join the Upcoming Writing Seminar in LondonAre you passionate about writing\, eager to refine your craft\, or seeking inspiration for your next big project? This is your chance to immerse yourself in the art of storytelling and learn from some of the most talented minds in the writing world! On [Insert Date]\, London will host a one-of-a-kind writing seminar\, bringing together authors\, aspiring writers\, and industry experts to explore the secrets of creating compelling narratives that captivate readers. What to Expect: A Day of Creativity\, Learning\, and InspirationWhether you’re a seasoned writer polishing your novel or a beginner just starting to explore your voice\, this seminar is designed to elevate your writing and spark your imagination. Set in the heart of London\, this event promises to offer invaluable insights\, practical strategies\, and plenty of inspiration. Here’s what you can look forward to: Expert-Led Workshops: Learn from bestselling authors\, editors\, and literary agents who will guide you through key aspects of the writing process—from character development and world-building to mastering plot twists and creating emotional depth. Whether you’re writing fiction\, non-fiction\, or screenplays\, there’s something for every storyteller.Interactive Panels and Q&A Sessions: Get your burning questions answered in real-time by industry professionals. Discuss the current trends in publishing\, how to navigate writer’s block\, and the best ways to make your work stand out in today’s competitive literary landscape.In-Depth Discussions on Genre Writing: Dive deep into specific genres\, including psychological thrillers\, fantasy\, historical fiction\, and more. Learn how to craft stories that not only entertain but resonate on a deeper level with readers.Live Critique Sessions: Bring a sample of your work for live feedback from industry experts. This unique opportunity allows you to receive constructive advice that can help you improve your writing and take it to the next level.Networking Opportunities: Connect with fellow writers\, publishers\, and literary professionals during dedicated networking breaks. Forge relationships that could lead to future collaborations or simply find camaraderie with others who share your passion for storytelling.Who Should Attend?This event is perfect for: Aspiring Writers: If you’re just starting your writing journey\, this seminar will provide you with the essential tools\, techniques\, and encouragement to pursue your creative dreams.Experienced Authors: For those who have already published works\, this seminar offers advanced strategies to refine your craft\, explore new genres\, and enhance your writing career.Writing Enthusiasts: Even if you’re not yet putting pen to paper but love the world of stories\, this seminar will deepen your understanding of the intricate process behind creating unforgettable books and characters. 								\n				\n				\n				\n									Special Guest Speakers: Insights from Industry LeadersWe’re thrilled to announce a lineup of renowned authors\, literary agents\, and editors who will be sharing their expertise at the event. From bestselling thriller writers to award-winning poets\, these professionals will offer diverse perspectives and actionable tips to help you grow as a writer. [Insert Keynote Speaker Name]\, the acclaimed author of [Insert Book Title]\, will deliver the keynote address\, offering personal insights into their writing journey\, overcoming challenges\, and achieving success. Why This Seminar is a Must-Attend EventExclusive Content: Gain access to writing techniques and industry knowledge that you won’t find online. This seminar is packed with expert advice that can help you break through creative barriers and bring your writing to life.Hands-On Learning: This isn’t just another lecture—our workshops and critique sessions offer a hands-on approach\, where you can immediately apply what you’ve learned and receive personalized feedback.Inspiration and Motivation: Writing can be a solitary endeavor\, but this seminar will remind you that you’re not alone. You’ll leave with a renewed sense of purpose\, a wealth of new ideas\, and the motivation to keep pushing forward in your writing journey. 								\n				\n				\n				\n					Widget only works on single event page.
URL:https://bandybooks.com/event/all-of-walkers-books/
LOCATION:Online\, United Kingdom
CATEGORIES:Book Introduction
ATTACH;FMTTYPE=image/jpeg:https://bandybooks.com/wp-content/uploads/2018/11/post-02.jpg
ORGANIZER;CN="Andy Abasili":MAILTO:reachbandy@bandybooks.com
END:VEVENT
BEGIN:VEVENT
DTSTART;TZID=UTC:20250222T173000
DTEND;TZID=UTC:20250223T040000
DTSTAMP:20260424T165233
CREATED:20241018T023057Z
LAST-MODIFIED:20241030T071500Z
UID:767-1740245400-1740283200@bandybooks.com
SUMMARY:Book Launch in Germany
DESCRIPTION:Unlock the Secrets of Great Storytelling: Join the Upcoming Writing Seminar in LondonAre you passionate about writing\, eager to refine your craft\, or seeking inspiration for your next big project? This is your chance to immerse yourself in the art of storytelling and learn from some of the most talented minds in the writing world! On [Insert Date]\, London will host a one-of-a-kind writing seminar\, bringing together authors\, aspiring writers\, and industry experts to explore the secrets of creating compelling narratives that captivate readers. What to Expect: A Day of Creativity\, Learning\, and InspirationWhether you’re a seasoned writer polishing your novel or a beginner just starting to explore your voice\, this seminar is designed to elevate your writing and spark your imagination. Set in the heart of London\, this event promises to offer invaluable insights\, practical strategies\, and plenty of inspiration. Here’s what you can look forward to: Expert-Led Workshops: Learn from bestselling authors\, editors\, and literary agents who will guide you through key aspects of the writing process—from character development and world-building to mastering plot twists and creating emotional depth. Whether you’re writing fiction\, non-fiction\, or screenplays\, there’s something for every storyteller.Interactive Panels and Q&A Sessions: Get your burning questions answered in real-time by industry professionals. Discuss the current trends in publishing\, how to navigate writer’s block\, and the best ways to make your work stand out in today’s competitive literary landscape.In-Depth Discussions on Genre Writing: Dive deep into specific genres\, including psychological thrillers\, fantasy\, historical fiction\, and more. Learn how to craft stories that not only entertain but resonate on a deeper level with readers.Live Critique Sessions: Bring a sample of your work for live feedback from industry experts. This unique opportunity allows you to receive constructive advice that can help you improve your writing and take it to the next level.Networking Opportunities: Connect with fellow writers\, publishers\, and literary professionals during dedicated networking breaks. Forge relationships that could lead to future collaborations or simply find camaraderie with others who share your passion for storytelling.Who Should Attend?This event is perfect for: Aspiring Writers: If you’re just starting your writing journey\, this seminar will provide you with the essential tools\, techniques\, and encouragement to pursue your creative dreams.Experienced Authors: For those who have already published works\, this seminar offers advanced strategies to refine your craft\, explore new genres\, and enhance your writing career.Writing Enthusiasts: Even if you’re not yet putting pen to paper but love the world of stories\, this seminar will deepen your understanding of the intricate process behind creating unforgettable books and characters. 								\n				\n				\n				\n									Special Guest Speakers: Insights from Industry LeadersWe’re thrilled to announce a lineup of renowned authors\, literary agents\, and editors who will be sharing their expertise at the event. From bestselling thriller writers to award-winning poets\, these professionals will offer diverse perspectives and actionable tips to help you grow as a writer. [Insert Keynote Speaker Name]\, the acclaimed author of [Insert Book Title]\, will deliver the keynote address\, offering personal insights into their writing journey\, overcoming challenges\, and achieving success. Why This Seminar is a Must-Attend EventExclusive Content: Gain access to writing techniques and industry knowledge that you won’t find online. This seminar is packed with expert advice that can help you break through creative barriers and bring your writing to life.Hands-On Learning: This isn’t just another lecture—our workshops and critique sessions offer a hands-on approach\, where you can immediately apply what you’ve learned and receive personalized feedback.Inspiration and Motivation: Writing can be a solitary endeavor\, but this seminar will remind you that you’re not alone. You’ll leave with a renewed sense of purpose\, a wealth of new ideas\, and the motivation to keep pushing forward in your writing journey. 								\n				\n				\n				\n					Widget only works on single event page.
URL:https://bandybooks.com/event/books-with-bandy/
CATEGORIES:Book Introduction
ATTACH;FMTTYPE=image/jpeg:https://bandybooks.com/wp-content/uploads/2018/11/post-01.jpg
ORGANIZER;CN="Andy Abasili":MAILTO:reachbandy@bandybooks.com
END:VEVENT
BEGIN:VEVENT
DTSTART;TZID=UTC:20250125T120000
DTEND;TZID=UTC:20250126T173000
DTSTAMP:20260424T165233
CREATED:20241025T041040Z
LAST-MODIFIED:20241028T214703Z
UID:788-1737806400-1737912600@bandybooks.com
SUMMARY:London Seminar
DESCRIPTION:Unlock the Secrets of Great Storytelling: Join the Upcoming Writing Seminar in LondonAre you passionate about writing\, eager to refine your craft\, or seeking inspiration for your next big project? This is your chance to immerse yourself in the art of storytelling and learn from some of the most talented minds in the writing world! On [Insert Date]\, London will host a one-of-a-kind writing seminar\, bringing together authors\, aspiring writers\, and industry experts to explore the secrets of creating compelling narratives that captivate readers. What to Expect: A Day of Creativity\, Learning\, and InspirationWhether you’re a seasoned writer polishing your novel or a beginner just starting to explore your voice\, this seminar is designed to elevate your writing and spark your imagination. Set in the heart of London\, this event promises to offer invaluable insights\, practical strategies\, and plenty of inspiration. Here’s what you can look forward to: Expert-Led Workshops: Learn from bestselling authors\, editors\, and literary agents who will guide you through key aspects of the writing process—from character development and world-building to mastering plot twists and creating emotional depth. Whether you’re writing fiction\, non-fiction\, or screenplays\, there’s something for every storyteller.Interactive Panels and Q&A Sessions: Get your burning questions answered in real-time by industry professionals. Discuss the current trends in publishing\, how to navigate writer’s block\, and the best ways to make your work stand out in today’s competitive literary landscape.In-Depth Discussions on Genre Writing: Dive deep into specific genres\, including psychological thrillers\, fantasy\, historical fiction\, and more. Learn how to craft stories that not only entertain but resonate on a deeper level with readers.Live Critique Sessions: Bring a sample of your work for live feedback from industry experts. This unique opportunity allows you to receive constructive advice that can help you improve your writing and take it to the next level.Networking Opportunities: Connect with fellow writers\, publishers\, and literary professionals during dedicated networking breaks. Forge relationships that could lead to future collaborations or simply find camaraderie with others who share your passion for storytelling.Who Should Attend?This event is perfect for: Aspiring Writers: If you’re just starting your writing journey\, this seminar will provide you with the essential tools\, techniques\, and encouragement to pursue your creative dreams.Experienced Authors: For those who have already published works\, this seminar offers advanced strategies to refine your craft\, explore new genres\, and enhance your writing career.Writing Enthusiasts: Even if you’re not yet putting pen to paper but love the world of stories\, this seminar will deepen your understanding of the intricate process behind creating unforgettable books and characters. 								\n				\n				\n				\n									Special Guest Speakers: Insights from Industry LeadersWe’re thrilled to announce a lineup of renowned authors\, literary agents\, and editors who will be sharing their expertise at the event. From bestselling thriller writers to award-winning poets\, these professionals will offer diverse perspectives and actionable tips to help you grow as a writer. [Insert Keynote Speaker Name]\, the acclaimed author of [Insert Book Title]\, will deliver the keynote address\, offering personal insights into their writing journey\, overcoming challenges\, and achieving success. Why This Seminar is a Must-Attend EventExclusive Content: Gain access to writing techniques and industry knowledge that you won’t find online. This seminar is packed with expert advice that can help you break through creative barriers and bring your writing to life.Hands-On Learning: This isn’t just another lecture—our workshops and critique sessions offer a hands-on approach\, where you can immediately apply what you’ve learned and receive personalized feedback.Inspiration and Motivation: Writing can be a solitary endeavor\, but this seminar will remind you that you’re not alone. You’ll leave with a renewed sense of purpose\, a wealth of new ideas\, and the motivation to keep pushing forward in your writing journey. 								\n				\n				\n				\n					Widget only works on single event page.
URL:https://bandybooks.com/event/bandy-seminar/
CATEGORIES:Seminar
ATTACH;FMTTYPE=image/jpeg:https://bandybooks.com/wp-content/uploads/2018/11/post-17.jpg
ORGANIZER;CN="Andy Abasili":MAILTO:reachbandy@bandybooks.com
END:VEVENT
BEGIN:VEVENT
DTSTART;TZID=UTC:20241220T180000
DTEND;TZID=UTC:20241220T233000
DTSTAMP:20260424T165233
CREATED:20241025T040756Z
LAST-MODIFIED:20241028T214934Z
UID:786-1734717600-1734737400@bandybooks.com
SUMMARY:Christmas Dinner Party
DESCRIPTION:Unlock the Secrets of Great Storytelling: Join the Upcoming Writing Seminar in LondonAre you passionate about writing\, eager to refine your craft\, or seeking inspiration for your next big project? This is your chance to immerse yourself in the art of storytelling and learn from some of the most talented minds in the writing world! On [Insert Date]\, London will host a one-of-a-kind writing seminar\, bringing together authors\, aspiring writers\, and industry experts to explore the secrets of creating compelling narratives that captivate readers. What to Expect: A Day of Creativity\, Learning\, and InspirationWhether you’re a seasoned writer polishing your novel or a beginner just starting to explore your voice\, this seminar is designed to elevate your writing and spark your imagination. Set in the heart of London\, this event promises to offer invaluable insights\, practical strategies\, and plenty of inspiration. Here’s what you can look forward to: Expert-Led Workshops: Learn from bestselling authors\, editors\, and literary agents who will guide you through key aspects of the writing process—from character development and world-building to mastering plot twists and creating emotional depth. Whether you’re writing fiction\, non-fiction\, or screenplays\, there’s something for every storyteller.Interactive Panels and Q&A Sessions: Get your burning questions answered in real-time by industry professionals. Discuss the current trends in publishing\, how to navigate writer’s block\, and the best ways to make your work stand out in today’s competitive literary landscape.In-Depth Discussions on Genre Writing: Dive deep into specific genres\, including psychological thrillers\, fantasy\, historical fiction\, and more. Learn how to craft stories that not only entertain but resonate on a deeper level with readers.Live Critique Sessions: Bring a sample of your work for live feedback from industry experts. This unique opportunity allows you to receive constructive advice that can help you improve your writing and take it to the next level.Networking Opportunities: Connect with fellow writers\, publishers\, and literary professionals during dedicated networking breaks. Forge relationships that could lead to future collaborations or simply find camaraderie with others who share your passion for storytelling.Who Should Attend?This event is perfect for: Aspiring Writers: If you’re just starting your writing journey\, this seminar will provide you with the essential tools\, techniques\, and encouragement to pursue your creative dreams.Experienced Authors: For those who have already published works\, this seminar offers advanced strategies to refine your craft\, explore new genres\, and enhance your writing career.Writing Enthusiasts: Even if you’re not yet putting pen to paper but love the world of stories\, this seminar will deepen your understanding of the intricate process behind creating unforgettable books and characters. 								\n				\n				\n				\n									Special Guest Speakers: Insights from Industry LeadersWe’re thrilled to announce a lineup of renowned authors\, literary agents\, and editors who will be sharing their expertise at the event. From bestselling thriller writers to award-winning poets\, these professionals will offer diverse perspectives and actionable tips to help you grow as a writer. [Insert Keynote Speaker Name]\, the acclaimed author of [Insert Book Title]\, will deliver the keynote address\, offering personal insights into their writing journey\, overcoming challenges\, and achieving success. Why This Seminar is a Must-Attend EventExclusive Content: Gain access to writing techniques and industry knowledge that you won’t find online. This seminar is packed with expert advice that can help you break through creative barriers and bring your writing to life.Hands-On Learning: This isn’t just another lecture—our workshops and critique sessions offer a hands-on approach\, where you can immediately apply what you’ve learned and receive personalized feedback.Inspiration and Motivation: Writing can be a solitary endeavor\, but this seminar will remind you that you’re not alone. You’ll leave with a renewed sense of purpose\, a wealth of new ideas\, and the motivation to keep pushing forward in your writing journey. 								\n				\n				\n				\n					Widget only works on single event page.
URL:https://bandybooks.com/event/christmas-dinner-party/
CATEGORIES:Dinner Party
ATTACH;FMTTYPE=image/jpeg:https://bandybooks.com/wp-content/uploads/2018/12/event-02.jpg
ORGANIZER;CN="Andy Abasili":MAILTO:reachbandy@bandybooks.com
END:VEVENT
END:VCALENDAR